BEGIN:VCALENDAR
VERSION:2.0
PRODID:-//IJswegencentrale Oostergoo - ECPv6.15.20//NONSGML v1.0//EN
CALSCALE:GREGORIAN
METHOD:PUBLISH
X-WR-CALNAME:IJswegencentrale Oostergoo
X-ORIGINAL-URL:https://www.ijwcoostergoo.nl
X-WR-CALDESC:Evenementen voor IJswegencentrale Oostergoo
REFRESH-INTERVAL;VALUE=DURATION:PT1H
X-Robots-Tag:noindex
X-PUBLISHED-TTL:PT1H
BEGIN:VTIMEZONE
TZID:Europe/Amsterdam
BEGIN:DAYLIGHT
TZOFFSETFROM:+0100
TZOFFSETTO:+0200
TZNAME:CEST
DTSTART:20180325T010000
END:DAYLIGHT
BEGIN:STANDARD
TZOFFSETFROM:+0200
TZOFFSETTO:+0100
TZNAME:CET
DTSTART:20181028T010000
END:STANDARD
BEGIN:DAYLIGHT
TZOFFSETFROM:+0100
TZOFFSETTO:+0200
TZNAME:CEST
DTSTART:20190331T010000
END:DAYLIGHT
BEGIN:STANDARD
TZOFFSETFROM:+0200
TZOFFSETTO:+0100
TZNAME:CET
DTSTART:20191027T010000
END:STANDARD
BEGIN:DAYLIGHT
TZOFFSETFROM:+0100
TZOFFSETTO:+0200
TZNAME:CEST
DTSTART:20200329T010000
END:DAYLIGHT
BEGIN:STANDARD
TZOFFSETFROM:+0200
TZOFFSETTO:+0100
TZNAME:CET
DTSTART:20201025T010000
END:STANDARD
END:VTIMEZONE
BEGIN:VEVENT
DTSTART;TZID=Europe/Amsterdam:20190209T100000
DTEND;TZID=Europe/Amsterdam:20190209T160000
DTSTAMP:20260420T191924
CREATED:20190123T142445Z
LAST-MODIFIED:20190123T142500Z
UID:1203-1549706400-1549728000@www.ijwcoostergoo.nl
SUMMARY:Naam van het evenement
DESCRIPTION:
URL:https://www.ijwcoostergoo.nl/event/naam-van-het-evenement/
LOCATION:De locatie van de tocht (vermoedelijk het startpunt)\, Het adres van de locatie\, Dorp\, Friesland\, 9251JJ\, Nederland
CATEGORIES:Toertochten
ORGANIZER;CN="Stichting IJswegencentrale Oostergoo":MAILTO:financieel@ijwcoostergo.nl
END:VEVENT
BEGIN:VEVENT
DTSTART;TZID=Europe/Amsterdam:20190124T080000
DTEND;TZID=Europe/Amsterdam:20190124T170000
DTSTAMP:20260420T191924
CREATED:20190123T134522Z
LAST-MODIFIED:20190123T140854Z
UID:1190-1548316800-1548349200@www.ijwcoostergoo.nl
SUMMARY:Toertocht Test
DESCRIPTION:Dit is een test toertocht
URL:https://www.ijwcoostergoo.nl/event/toertocht-test/
LOCATION:Test\, Locatie adres 1\, Testtocht\, Friesland\, 9251AB\, Nederland
CATEGORIES:Toertochten
END:VEVENT
END:VCALENDAR